BEGIN:VCALENDAR
VERSION:2.0
PRODID:-//Stiftung Forum Recht - ECPv6.15.20//NONSGML v1.0//EN
CALSCALE:GREGORIAN
METHOD:PUBLISH
X-ORIGINAL-URL:https://stiftung-forum-recht.de
X-WR-CALDESC:Veranstaltungen für Stiftung Forum Recht
REFRESH-INTERVAL;VALUE=DURATION:PT1H
X-Robots-Tag:noindex
X-PUBLISHED-TTL:PT1H
BEGIN:VTIMEZONE
TZID:Europe/Berlin
BEGIN:DAYLIGHT
TZOFFSETFROM:+0100
TZOFFSETTO:+0200
TZNAME:CEST
DTSTART:20240331T010000
END:DAYLIGHT
BEGIN:STANDARD
TZOFFSETFROM:+0200
TZOFFSETTO:+0100
TZNAME:CET
DTSTART:20241027T010000
END:STANDARD
BEGIN:DAYLIGHT
TZOFFSETFROM:+0100
TZOFFSETTO:+0200
TZNAME:CEST
DTSTART:20250330T010000
END:DAYLIGHT
BEGIN:STANDARD
TZOFFSETFROM:+0200
TZOFFSETTO:+0100
TZNAME:CET
DTSTART:20251026T010000
END:STANDARD
BEGIN:DAYLIGHT
TZOFFSETFROM:+0100
TZOFFSETTO:+0200
TZNAME:CEST
DTSTART:20260329T010000
END:DAYLIGHT
BEGIN:STANDARD
TZOFFSETFROM:+0200
TZOFFSETTO:+0100
TZNAME:CET
DTSTART:20261025T010000
END:STANDARD
END:VTIMEZONE
BEGIN:VEVENT
DTSTART;TZID=Europe/Berlin:20250523T153000
DTEND;TZID=Europe/Berlin:20250523T180000
DTSTAMP:20260425T122415
CREATED:20250506T125134Z
LAST-MODIFIED:20250506T125134Z
UID:10000218-1748014200-1748023200@stiftung-forum-recht.de
SUMMARY:Stiftung Forum Recht beim Markt der Demokratie in Leipzig
DESCRIPTION:Die Stiftung Forum Recht ist Teil des Markts der Demokratie auf dem Richard-Wagner-Platz am Freitag\, 23. Mai 2025 von 15:30 bis 18:00 Uhr. Der Markt bietet Akteuren der Leipziger Zivilgesellschaft eine Plattform zur kreativen Präsentation\, zum Austausch und zur Vernetzung und kann kostenfrei besucht werden. Gemeinsam setzen wir ein Zeichen für demokratische Teilhabe und gesellschaftliches Engagement.
URL:https://stiftung-forum-recht.de/kalender/stiftung-forum-recht-beim-markt-der-demokratie-in-leipzig/
LOCATION:Richard-Wagner-Platz\, Leipzig\, Germany
ATTACH;FMTTYPE=image/jpeg:https://stiftung-forum-recht.de/wp-content/uploads/2024/08/UD7_8769-scaled-e1746535812554.jpg
END:VEVENT
END:VCALENDAR