BEGIN:VCALENDAR
VERSION:2.0
PRODID:-//Stiftung Forum Recht - ECPv6.15.20//NONSGML v1.0//EN
CALSCALE:GREGORIAN
METHOD:PUBLISH
X-WR-CALNAME:Stiftung Forum Recht
X-ORIGINAL-URL:https://stiftung-forum-recht.de
X-WR-CALDESC:Veranstaltungen für Stiftung Forum Recht
REFRESH-INTERVAL;VALUE=DURATION:PT1H
X-Robots-Tag:noindex
X-PUBLISHED-TTL:PT1H
BEGIN:VTIMEZONE
TZID:Europe/Berlin
BEGIN:DAYLIGHT
TZOFFSETFROM:+0100
TZOFFSETTO:+0200
TZNAME:CEST
DTSTART:20250330T010000
END:DAYLIGHT
BEGIN:STANDARD
TZOFFSETFROM:+0200
TZOFFSETTO:+0100
TZNAME:CET
DTSTART:20251026T010000
END:STANDARD
BEGIN:DAYLIGHT
TZOFFSETFROM:+0100
TZOFFSETTO:+0200
TZNAME:CEST
DTSTART:20260329T010000
END:DAYLIGHT
BEGIN:STANDARD
TZOFFSETFROM:+0200
TZOFFSETTO:+0100
TZNAME:CET
DTSTART:20261025T010000
END:STANDARD
BEGIN:DAYLIGHT
TZOFFSETFROM:+0100
TZOFFSETTO:+0200
TZNAME:CEST
DTSTART:20270328T010000
END:DAYLIGHT
BEGIN:STANDARD
TZOFFSETFROM:+0200
TZOFFSETTO:+0100
TZNAME:CET
DTSTART:20271031T010000
END:STANDARD
END:VTIMEZONE
BEGIN:VEVENT
DTSTART;TZID=Europe/Berlin:20260417T090000
DTEND;TZID=Europe/Berlin:20260417T160000
DTSTAMP:20260425T134449
CREATED:20260205T120915Z
LAST-MODIFIED:20260408T134957Z
UID:10000263-1776416400-1776441600@stiftung-forum-recht.de
SUMMARY:Thementag zum Bundesverfassungsgericht | Fortbildung für Multiplikator:innen
DESCRIPTION:Was sind die Aufgaben des Bundesverfassungsgerichts? Wie arbeitet das höchste Gericht für Verfassungsfragen in Deutschland – und welche Rolle spielt es für Demokratie und Rechtsstaatlichkeit?\nDer Thementag der Stiftung Forum Recht am Freitag\, 17. April 2026\, bietet fundierte Einblicke in die Arbeit des Bundesverfassungsgerichts und richtet sich an alle\, die Recht verständlich vermitteln oder vertiefen möchten. \nEinblicke in das höchste deutsche Verfassungsgericht\nAnlässlich des 75. Geburtstags des Bundesverfassungsgerichts widmet sich der erste Thementag der Stiftung Forum Recht in diesem Jahr dem obersten Gericht für Verfassungsfragen in der Bundesrepublik Deutschland. Die eintägige Fortbildung kombiniert einen Besuch des Bundesverfassungsgerichts mit einem Praxisgespräch sowie Fachvorträgen und einem Workshop. \nNach dem gemeinsamen Besuch des Gerichtsgebäudes und einem Gespräch mit einer in der Rechtspraxis am Bundesverfassungsgericht tätigen Person werden am Nachmittag in den Räumen der Stiftung Forum Recht zentrale Fragen vertieft: Welche Aufgaben hat das Bundesverfassungsgericht? Vor welchen Herausforderungen steht es heute? Und welche Bedeutung hat seine Rechtsprechung für Politik\, Gesellschaft und den Alltag der Menschen? \nDie Thementage der Stiftung Forum Recht sind eintägige Fortbildungen zur rechtlichen Bildung. Sie verbinden Orte des Rechtsstaats mit Fachimpulsen\, Praxisgesprächen und dialogorientierten Workshopformaten. Ziel ist es\, Recht und Rechtsstaatlichkeit verständlich\, erfahrbar und diskutierbar zu machen. \n\n\n\n\n\n\n\n\n\nInfos im Überblick\nDatum: Freitag\, 17. April 2026\nUhrzeit: 09:00 – ca. 16:00 Uhr (Änderungen vorbehalten) \nTreffpunkt:\nDirekt vor dem Bundesverfassungsgericht\nSchloßbezirk 3\, 76131 Karlsruhe \nWeiterer Veranstaltungsort:\nStiftung Forum Recht\nKarlstraße 45A\, 76133 Karlsruhe \nAnreise:\nDie An- und Abreise erfolgt individuell. Ein Reisekostenzuschuss kann nicht gewährt werden. \nZielgruppe:\nDie Fortbildung richtet sich an:\nMultiplikator:innen aus dem Bildungsbereich (Schule\, politische Bildungsarbeit\, Volkshochschulen\, weitere Bildungseinrichtungen)\, Personen aus dem sozialen Bereich (z. B. ehrenamtliche Jugendleiter:innen\, Sozialarbeiter:innen)\,\nJournalist:innen sowie fachlich interessierte Personen (z. B. Schöff:innen) \nAnmeldung und Teilnahme\nAnmeldung:\nEin Anmeldung war bis einschließlich 17. März 2026 über das Anmeldeformular auf der Webseite der Stiftung Forum Recht möglich. Die Fortbildung ist ausgebucht. \nTeilnehmendenzahl:\nBegrenzt auf 25 Personen \nKosten:\nDie Teilnahme ist kostenfrei. Das Mittagessen ist selbst zu zahlen. \nWeitere Informationen zum Tagesprogramm: Webseite der Vermittlung der Stiftung Forum Recht
URL:https://stiftung-forum-recht.de/kalender/thementag2026-bundesverfassungsgericht/
LOCATION:Bundesverfassungsgericht\, Schlossbezirk 3\, Karlsruhe\, 76131
ATTACH;FMTTYPE=image/jpeg:https://stiftung-forum-recht.de/wp-content/uploads/2025/03/bild_57036.jpg
END:VEVENT
END:VCALENDAR