BEGIN:VCALENDAR
VERSION:2.0
PRODID:-//Stiftung Forum Recht - ECPv6.15.20//NONSGML v1.0//EN
CALSCALE:GREGORIAN
METHOD:PUBLISH
X-WR-CALNAME:Stiftung Forum Recht
X-ORIGINAL-URL:https://stiftung-forum-recht.de
X-WR-CALDESC:Veranstaltungen für Stiftung Forum Recht
REFRESH-INTERVAL;VALUE=DURATION:PT1H
X-Robots-Tag:noindex
X-PUBLISHED-TTL:PT1H
BEGIN:VTIMEZONE
TZID:Europe/Berlin
BEGIN:DAYLIGHT
TZOFFSETFROM:+0100
TZOFFSETTO:+0200
TZNAME:CEST
DTSTART:20240331T010000
END:DAYLIGHT
BEGIN:STANDARD
TZOFFSETFROM:+0200
TZOFFSETTO:+0100
TZNAME:CET
DTSTART:20241027T010000
END:STANDARD
BEGIN:DAYLIGHT
TZOFFSETFROM:+0100
TZOFFSETTO:+0200
TZNAME:CEST
DTSTART:20250330T010000
END:DAYLIGHT
BEGIN:STANDARD
TZOFFSETFROM:+0200
TZOFFSETTO:+0100
TZNAME:CET
DTSTART:20251026T010000
END:STANDARD
BEGIN:DAYLIGHT
TZOFFSETFROM:+0100
TZOFFSETTO:+0200
TZNAME:CEST
DTSTART:20260329T010000
END:DAYLIGHT
BEGIN:STANDARD
TZOFFSETFROM:+0200
TZOFFSETTO:+0100
TZNAME:CET
DTSTART:20261025T010000
END:STANDARD
END:VTIMEZONE
BEGIN:VEVENT
DTSTART;TZID=Europe/Berlin:20250505T170000
DTEND;TZID=Europe/Berlin:20250505T190000
DTSTAMP:20260422T131023
CREATED:20250409T080050Z
LAST-MODIFIED:20250428T142429Z
UID:10000209-1746464400-1746471600@stiftung-forum-recht.de
SUMMARY:Podiumsgespräch: „08. Mai 1945 – Befreiung vom UNRecht?“
DESCRIPTION:Stiftungsdirektor Dr. Cord Brügmann wird am 05. Mai bei der Podiumsdiskussion „NS-Sondergerichte: Justiz als Teil des Herrschaftsapparats und die Nachwirkungen nach 1945“ mit Dr. Peter Frank und Prof. Dr. Michael Kißener im Generallandesarchiv Karlsruhe teilnehmen. \nVor 80 Jahren endete der Zweite Weltkrieg in Europa. Zu diesem Anlass lädt das Generallandesarchiv Karlsruhe am 05. Mai 2025 zu einem Abend mit szenischen Lesungen und Podiumsgespräch ein: Im Zentrum der Veranstaltung stehen der nationalsozialistische Unrechtsstaat und die NS-Sondergerichte. Karlsruher Schüler:innen haben sich im Rahmen eines Seminarkurses mit den Akten des NS-Sondergerichts Mannheim beschäftigt. Am 05. Mai stellen sie ausgewählte Aspekte ihrer Arbeit in szenischen Lesungen der Gerichtsakten vor. Sie setzen so Impulse für das anschließende Podiumsgespräch „NS-Sondergerichte: Justiz als Teil des Herrschaftsapparats und die Nachwirkungen nach 1945“. Auf dem Podium diskutieren Dr. Peter Frank\, Richter des Bundesverfassungsgerichts\, Prof. Dr. Michael Kißener\, Professor für Zeitgeschichte an der Johannes-Gutenberg-Universität Mainz\, und Dr. Cord Brügmann\, Direktor der Stiftung Forum Recht. Der Journalist Mirko Drotschmann (MrWissen2go/Terra X) moderiert das Gespräch. \nEine Veranstaltung des Landesarchivs Baden-Württemberg\, geführt von der Schülerakademie Karlsruhe. \nWeitere Informationen: www.landesarchiv-bw.de/de/aktuelles/termine/78111
URL:https://stiftung-forum-recht.de/kalender/podiumsgespraech-8-mai-1945-befreiung-vom-unrecht/
LOCATION:Generallandesarchiv Karlsruhe mit Dokumentationsstelle Rechtsextremismus\, Nördliche Hildapromenade 3\, Karlsruhe\, 76133
ATTACH;FMTTYPE=image/jpeg:https://stiftung-forum-recht.de/wp-content/uploads/2024/11/2024_11_21_MeetGreet_Foto_SFR-30-scaled-e1747908438911.jpg
END:VEVENT
END:VCALENDAR